BEGIN:VCALENDAR
VERSION:2.0
PRODID:https://www.kufer.de/kuferweb / DE
METHOD:PUBLISH
CALSCALE:GREGORIAN
X-WR-TIMEZONE:Europe/Berlin
BEGIN:VTIMEZONE
TZID:Europe/Berlin
X-LIC-LOCATION:Europe/Berlin
BEGIN:DAYLIGHT
TZOFFSETFROM:+0100
TZOFFSETTO:+0200
TZNAME:CEST
DTSTART:19700329T020000
RRULE:FREQ=YEARLY;INTERVAL=1;BYDAY=-1SU;BYMONTH=3
END:DAYLIGHT
BEGIN:STANDARD
TZOFFSETFROM:+0200
TZOFFSETTO:+0100
TZNAME:CET
DTSTART:19701025T030000
RRULE:FREQ=YEARLY;INTERVAL=1;BYDAY=-1SU;BYMONTH=10
END:STANDARD
END:VTIMEZONE
BEGIN:VEVENT
DTSTAMP:20260425T131616
DTSTART;TZID=Europe/Berlin:20260518T153000
DTEND;TZID=Europe/Berlin:20260518T173000
UID:126-306-14-20260518T153000@FZDARMSTADT
SUMMARY:Vom Schaf zur Wolle - für Kinder von 3 - 8 Jahren mit Bezugsperson Ein Mitmachangebot für Familien in Kooperation mit dem Lernort Bauernhof Hofgut Oberfeld (126-306-14) 
LOCATION:Hofgut Oberfeld, Erbacherstraße 125, 64287 Darmstadt
END:VEVENT
END:VCALENDAR